BEGIN:VCALENDAR
VERSION:2.0
PRODID:icalendar-ruby
CALSCALE:GREGORIAN
METHOD:PUBLISH
BEGIN:VEVENT
DTSTAMP:20260423T112834Z
UID:57f5e129-4582-4e3a-ad96-1f5fa39b2262
DTSTART;VALUE=DATE:20210811
DTEND;VALUE=DATE:20210811
DESCRIPTION:Derby City BMX
LOCATION:3000 Freys Hill Rd  Louisville KY 40241 USA
SUMMARY:Practice
URL:/site/bmx_races/475330
END:VEVENT
END:VCALENDAR
