BEGIN:VCALENDAR
VERSION:2.0
PRODID:icalendar-ruby
CALSCALE:GREGORIAN
METHOD:PUBLISH
BEGIN:VEVENT
DTSTAMP:20260423T123848Z
UID:dd92d7f2-8814-4397-b8d9-fb0fd0eb918d
DTSTART;VALUE=DATE:20210818
DTEND;VALUE=DATE:20210818
DESCRIPTION:Stouffville BMX
LOCATION:3291 Stouffville Rd  Whitchurch-Stouffville ON L4A7X5 CAN
SUMMARY:Warnicke Double
URL:/site/bmx_races/475459
END:VEVENT
END:VCALENDAR
