BEGIN:VCALENDAR
VERSION:2.0
PRODID:icalendar-ruby
CALSCALE:GREGORIAN
METHOD:PUBLISH
BEGIN:VEVENT
DTSTAMP:20260422T212610Z
UID:48776382-7718-4c3c-b279-2c32ad5309fd
DTSTART;VALUE=DATE:20220406
DTEND;VALUE=DATE:20220406
DESCRIPTION:Boulder BMX\, Inc
LOCATION:1799 Commons Way  Boulder City NV 89005 USA
SUMMARY:Practice
URL:/site/bmx_races/475957
END:VEVENT
END:VCALENDAR
