BEGIN:VCALENDAR
VERSION:2.0
PRODID:icalendar-ruby
CALSCALE:GREGORIAN
METHOD:PUBLISH
BEGIN:VEVENT
DTSTAMP:20260422T212553Z
UID:799d569d-1c43-4498-ba7a-3b3cc91d86ee
DTSTART;VALUE=DATE:20220413
DTEND;VALUE=DATE:20220413
DESCRIPTION:Boulder BMX\, Inc
LOCATION:1799 Commons Way  Boulder City NV 89005 USA
SUMMARY:Practice
URL:/site/bmx_races/475959
END:VEVENT
END:VCALENDAR
