BEGIN:VCALENDAR
VERSION:2.0
PRODID:icalendar-ruby
CALSCALE:GREGORIAN
METHOD:PUBLISH
BEGIN:VEVENT
DTSTAMP:20260422T195547Z
UID:27418dd5-d285-4335-8cc6-3c4436f4669c
DTSTART;VALUE=DATE:20220504
DTEND;VALUE=DATE:20220504
DESCRIPTION:Boulder BMX\, Inc
LOCATION:1799 Commons Way  Boulder City NV 89005 USA
SUMMARY:Practice
URL:/site/bmx_races/475965
END:VEVENT
END:VCALENDAR
