BEGIN:VCALENDAR
VERSION:2.0
PRODID:icalendar-ruby
CALSCALE:GREGORIAN
METHOD:PUBLISH
BEGIN:VEVENT
DTSTAMP:20260422T150158Z
UID:9a83c182-c934-46b0-849e-7f158d70e80a
DTSTART;VALUE=DATE:20220826
DTEND;VALUE=DATE:20220826
DESCRIPTION:Boulder BMX\, Inc
LOCATION:1799 Commons Way  Boulder City NV 89005 USA
SUMMARY:Local Race Single
URL:/site/bmx_races/475998
END:VEVENT
END:VCALENDAR
