BEGIN:VCALENDAR
VERSION:2.0
PRODID:icalendar-ruby
CALSCALE:GREGORIAN
METHOD:PUBLISH
BEGIN:VEVENT
DTSTAMP:20260422T094946Z
UID:e6a8538c-4638-44db-b027-b6f6c33915fc
DTSTART;VALUE=DATE:20221130
DTEND;VALUE=DATE:20221130
DESCRIPTION:Boulder BMX\, Inc
LOCATION:1799 Commons Way  Boulder City NV 89005 USA
SUMMARY:Practice
URL:/site/bmx_races/476025
END:VEVENT
END:VCALENDAR
