BEGIN:VCALENDAR
VERSION:2.0
PRODID:icalendar-ruby
CALSCALE:GREGORIAN
METHOD:PUBLISH
BEGIN:VEVENT
DTSTAMP:20260423T072550Z
UID:57876ed7-b3d3-466f-b9e7-a5303f2c0929
DTSTART;VALUE=DATE:20210830
DTEND;VALUE=DATE:20210830
DESCRIPTION:Wolfe Creek BMX
LOCATION:22843 Creek Road  Chatham ON  CAN
SUMMARY:Practice
URL:/site/bmx_races/476354
END:VEVENT
END:VCALENDAR
