BEGIN:VCALENDAR
VERSION:2.0
PRODID:icalendar-ruby
CALSCALE:GREGORIAN
METHOD:PUBLISH
BEGIN:VEVENT
DTSTAMP:20260424T021058Z
UID:e7e944ba-965a-4706-9cfc-817ed74f261a
DTSTART;VALUE=DATE:20210909
DTEND;VALUE=DATE:20210909
DESCRIPTION:Gallatin Valley BMX
LOCATION: 620 N 5th Ave  Bozeman MT 59715 USA
SUMMARY:Local Race Single
URL:/site/bmx_races/477001
END:VEVENT
END:VCALENDAR
