BEGIN:VCALENDAR
VERSION:2.0
PRODID:icalendar-ruby
CALSCALE:GREGORIAN
METHOD:PUBLISH
BEGIN:VEVENT
DTSTAMP:20260421T105817Z
UID:aca3296c-ec57-4090-8ae7-60fe2a9e619e
DTSTART;VALUE=DATE:20210919
DTEND;VALUE=DATE:20210919
DESCRIPTION:Blanchard Woods BMX
LOCATION:4600 Blanchard Woods Drive  Evans GA 30809 USA
SUMMARY:Track Rental
URL:/site/bmx_races/477350
END:VEVENT
END:VCALENDAR
