BEGIN:VCALENDAR
VERSION:2.0
PRODID:icalendar-ruby
CALSCALE:GREGORIAN
METHOD:PUBLISH
BEGIN:VEVENT
DTSTAMP:20260424T051740Z
UID:f5cb10cd-4f4a-49bc-8f80-b0c83fc3f7f0
DTSTART;VALUE=DATE:20210827
DTEND;VALUE=DATE:20210827
DESCRIPTION:Yuma BMX
LOCATION:3067 S Pacific Ave  Yuma AZ 85364 USA
SUMMARY:Local Race Single
URL:/site/bmx_races/477387
END:VEVENT
END:VCALENDAR
