BEGIN:VCALENDAR
VERSION:2.0
PRODID:icalendar-ruby
CALSCALE:GREGORIAN
METHOD:PUBLISH
BEGIN:VEVENT
DTSTAMP:20260423T093423Z
UID:05fc70b5-0562-4abe-904a-9e21b82f0249
DTSTART;VALUE=DATE:20210914
DTEND;VALUE=DATE:20210914
DESCRIPTION:Billerica BMX
LOCATION:270 Treble Cove Rd  Billerica MA 01821 USA
SUMMARY:Practice
URL:/site/bmx_races/477415
END:VEVENT
END:VCALENDAR
