BEGIN:VCALENDAR
VERSION:2.0
PRODID:icalendar-ruby
CALSCALE:GREGORIAN
METHOD:PUBLISH
BEGIN:VEVENT
DTSTAMP:20260423T093338Z
UID:02eacd30-1fcc-480a-8771-4e5ba44cd9e6
DTSTART;VALUE=DATE:20211023
DTEND;VALUE=DATE:20211023
DESCRIPTION:Mike Sedar BMX
LOCATION:789 College Dr  Casper WY 82601 USA
SUMMARY:Local Race Single
URL:/site/bmx_races/477735
END:VEVENT
END:VCALENDAR
