BEGIN:VCALENDAR
VERSION:2.0
PRODID:icalendar-ruby
CALSCALE:GREGORIAN
METHOD:PUBLISH
BEGIN:VEVENT
DTSTAMP:20260423T100057Z
UID:893ddfdb-cd14-4471-8b0c-16f2f4143f23
DTSTART;VALUE=DATE:20210924
DTEND;VALUE=DATE:20210924
DESCRIPTION:Derby City BMX
LOCATION:3000 Freys Hill Rd  Louisville KY 40241 USA
SUMMARY:Practice
URL:/site/bmx_races/477862
END:VEVENT
END:VCALENDAR
