BEGIN:VCALENDAR
VERSION:2.0
PRODID:icalendar-ruby
CALSCALE:GREGORIAN
METHOD:PUBLISH
BEGIN:VEVENT
DTSTAMP:20260426T011820Z
UID:bb0398de-f7f1-4f2a-aa64-b19fee059ab0
DTSTART;VALUE=DATE:20211003
DTEND;VALUE=DATE:20211003
DESCRIPTION:Central Wisconsin BMX
LOCATION:2220 E Riverview Expy\,  Wisconsin Rapids WI 54494 USA
SUMMARY:Local Race Single
URL:/site/bmx_races/478047
END:VEVENT
END:VCALENDAR
