BEGIN:VCALENDAR
VERSION:2.0
PRODID:icalendar-ruby
CALSCALE:GREGORIAN
METHOD:PUBLISH
BEGIN:VEVENT
DTSTAMP:20260424T155236Z
UID:82f6fcfe-41ee-4fca-98f4-0b7dc240a817
DTSTART;VALUE=DATE:20211007
DTEND;VALUE=DATE:20211007
DESCRIPTION:Freedom Park BMX Raceway
LOCATION:530 Convair St  Camarillo CA 93010 USA
SUMMARY:Local Race Single
URL:/site/bmx_races/478814
END:VEVENT
END:VCALENDAR
