BEGIN:VCALENDAR
VERSION:2.0
PRODID:icalendar-ruby
CALSCALE:GREGORIAN
METHOD:PUBLISH
BEGIN:VEVENT
DTSTAMP:20260423T020939Z
UID:a56c3150-e415-4edf-8950-e4b9a532b9f7
DTSTART;VALUE=DATE:20211016
DTEND;VALUE=DATE:20211016
DESCRIPTION:Chehalem Valley BMX
LOCATION:1201 Blaine St  Newberg OR 97132 USA
SUMMARY:Local Race Single
URL:/site/bmx_races/479138
END:VEVENT
END:VCALENDAR
