BEGIN:VCALENDAR
VERSION:2.0
PRODID:icalendar-ruby
CALSCALE:GREGORIAN
METHOD:PUBLISH
BEGIN:VEVENT
DTSTAMP:20260420T094920Z
UID:3115355f-9dd7-42f7-be63-b2d8fb768fb5
DTSTART;VALUE=DATE:20220818
DTEND;VALUE=DATE:20220818
DESCRIPTION:Imagination Glen BMX
LOCATION:2190 N State Rd 149  Portage IN 46304 USA
SUMMARY:Local Race Single
URL:/site/bmx_races/479395
END:VEVENT
END:VCALENDAR
