BEGIN:VCALENDAR
VERSION:2.0
PRODID:icalendar-ruby
CALSCALE:GREGORIAN
METHOD:PUBLISH
BEGIN:VEVENT
DTSTAMP:20260420T094924Z
UID:9946bffd-9261-46eb-8c5e-eddf6090c3f0
DTSTART;VALUE=DATE:20220819
DTEND;VALUE=DATE:20220819
DESCRIPTION:Imagination Glen BMX
LOCATION:2190 N State Rd 149  Portage IN 46304 USA
SUMMARY:Practice
URL:/site/bmx_races/479396
END:VEVENT
END:VCALENDAR
