BEGIN:VCALENDAR
VERSION:2.0
PRODID:icalendar-ruby
CALSCALE:GREGORIAN
METHOD:PUBLISH
BEGIN:VEVENT
DTSTAMP:20260424T215238Z
UID:8496127e-aa40-4ce6-9f0e-e55d97a6dfb8
DTSTART;VALUE=DATE:20211017
DTEND;VALUE=DATE:20211017
DESCRIPTION:Kamloops BMX
LOCATION:200  1550 Ord Rd   Kamloops BC V2B1N3 CAN
SUMMARY:Local Race Single
URL:/site/bmx_races/479423
END:VEVENT
END:VCALENDAR
