BEGIN:VCALENDAR
VERSION:2.0
PRODID:icalendar-ruby
CALSCALE:GREGORIAN
METHOD:PUBLISH
BEGIN:VEVENT
DTSTAMP:20260419T182505Z
UID:bf0d0ed3-fd94-4d1c-8b32-1858e5ac21f2
DTSTART;VALUE=DATE:20220501
DTEND;VALUE=DATE:20220501
DESCRIPTION:Rum River BMX
LOCATION:Isanti Parkway Northwest  Isanti MN 55040 USA
SUMMARY:Gold Cup Qualifier Triple
URL:/site/bmx_races/479733
END:VEVENT
END:VCALENDAR
