BEGIN:VCALENDAR
VERSION:2.0
PRODID:icalendar-ruby
CALSCALE:GREGORIAN
METHOD:PUBLISH
BEGIN:VEVENT
DTSTAMP:20260419T170742Z
UID:09dcbd41-fb38-4d0d-af18-528fb1dd3b11
DTSTART;VALUE=DATE:20220831
DTEND;VALUE=DATE:20220831
DESCRIPTION:Rapid City BMX
LOCATION:626 E Fairmont Blvd  Rapid City SD 57701 USA
SUMMARY:Local Race Single
URL:/site/bmx_races/479777
END:VEVENT
END:VCALENDAR
