BEGIN:VCALENDAR
VERSION:2.0
PRODID:icalendar-ruby
CALSCALE:GREGORIAN
METHOD:PUBLISH
BEGIN:VEVENT
DTSTAMP:20260423T045023Z
UID:9f8a7925-c41e-434d-a31a-c9ac7f2bd088
DTSTART;VALUE=DATE:20211204
DTEND;VALUE=DATE:20211204
DESCRIPTION:Horseheads BMX
LOCATION:190 Wygant Rd  Horseheads NY 14845 USA
SUMMARY:Local Race Single
URL:/site/bmx_races/480199
END:VEVENT
END:VCALENDAR
