BEGIN:VCALENDAR
VERSION:2.0
PRODID:icalendar-ruby
CALSCALE:GREGORIAN
METHOD:PUBLISH
BEGIN:VEVENT
DTSTAMP:20260420T161212Z
UID:cf53fecb-022e-432d-804b-0344b938c079
DTSTART;VALUE=DATE:20211112
DTEND;VALUE=DATE:20211112
DESCRIPTION:East Idaho Indoor BMX
LOCATION:1532 W 800 S  Pingree ID 83262 USA
SUMMARY:Local Race Single
URL:/site/bmx_races/480484
END:VEVENT
END:VCALENDAR
