BEGIN:VCALENDAR
VERSION:2.0
PRODID:icalendar-ruby
CALSCALE:GREGORIAN
METHOD:PUBLISH
BEGIN:VEVENT
DTSTAMP:20260423T004220Z
UID:adad4420-34dd-4e15-8c07-9d362d14a844
DTSTART;VALUE=DATE:20220908
DTEND;VALUE=DATE:20220908
DESCRIPTION:Tucson BMX
LOCATION:9245 E Irvington  Tucson AZ 85730 USA
SUMMARY:Practice
URL:/site/bmx_races/480721
END:VEVENT
END:VCALENDAR
