BEGIN:VCALENDAR
VERSION:2.0
PRODID:icalendar-ruby
CALSCALE:GREGORIAN
METHOD:PUBLISH
BEGIN:VEVENT
DTSTAMP:20260422T195536Z
UID:943d095a-0b51-43c1-bc45-fe4c44d33d9c
DTSTART;VALUE=DATE:20221103
DTEND;VALUE=DATE:20221103
DESCRIPTION:Tucson BMX
LOCATION:9245 E Irvington  Tucson AZ 85730 USA
SUMMARY:Practice
URL:/site/bmx_races/480737
END:VEVENT
END:VCALENDAR
