BEGIN:VCALENDAR
VERSION:2.0
PRODID:icalendar-ruby
CALSCALE:GREGORIAN
METHOD:PUBLISH
BEGIN:VEVENT
DTSTAMP:20260423T032841Z
UID:79c85d73-78d5-4fb3-839e-19f92cc4a970
DTSTART;VALUE=DATE:20221016
DTEND;VALUE=DATE:20221016
DESCRIPTION:Akron BMX
LOCATION:800 Derby Downs Drive  Akron OH 44306 USA
SUMMARY:Local Race Single
URL:/site/bmx_races/480840
END:VEVENT
END:VCALENDAR
