BEGIN:VCALENDAR
VERSION:2.0
PRODID:icalendar-ruby
CALSCALE:GREGORIAN
METHOD:PUBLISH
BEGIN:VEVENT
DTSTAMP:20260423T063604Z
UID:9dfde247-c2f2-428d-a9fc-c9b8dc6b98ee
DTSTART;VALUE=DATE:20211110
DTEND;VALUE=DATE:20211110
DESCRIPTION:Derby City BMX
LOCATION:3000 Freys Hill Rd  Louisville KY 40241 USA
SUMMARY:Practice
URL:/site/bmx_races/481800
END:VEVENT
END:VCALENDAR
