BEGIN:VCALENDAR
VERSION:2.0
PRODID:icalendar-ruby
CALSCALE:GREGORIAN
METHOD:PUBLISH
BEGIN:VEVENT
DTSTAMP:20260421T024300Z
UID:6cc44620-036c-4b8d-a4e6-da4a483825bc
DTSTART;VALUE=DATE:20220222
DTEND;VALUE=DATE:20220222
DESCRIPTION:Blanchard Woods BMX
LOCATION:4600 Blanchard Woods Drive  Evans GA 30809 USA
SUMMARY:Practice
URL:/site/bmx_races/482240
END:VEVENT
END:VCALENDAR
