BEGIN:VCALENDAR
VERSION:2.0
PRODID:icalendar-ruby
CALSCALE:GREGORIAN
METHOD:PUBLISH
BEGIN:VEVENT
DTSTAMP:20260421T010034Z
UID:d50d489e-e42d-4923-8131-adba785898c4
DTSTART;VALUE=DATE:20220303
DTEND;VALUE=DATE:20220303
DESCRIPTION:Blanchard Woods BMX
LOCATION:4600 Blanchard Woods Drive  Evans GA 30809 USA
SUMMARY:Practice
URL:/site/bmx_races/482244
END:VEVENT
END:VCALENDAR
