BEGIN:VCALENDAR
VERSION:2.0
PRODID:icalendar-ruby
CALSCALE:GREGORIAN
METHOD:PUBLISH
BEGIN:VEVENT
DTSTAMP:20260420T232300Z
UID:6bb0c8c9-2a4d-4e42-a151-69977fc28ada
DTSTART;VALUE=DATE:20220428
DTEND;VALUE=DATE:20220428
DESCRIPTION:Blanchard Woods BMX
LOCATION:4600 Blanchard Woods Drive  Evans GA 30809 USA
SUMMARY:Practice
URL:/site/bmx_races/482268
END:VEVENT
END:VCALENDAR
