BEGIN:VCALENDAR
VERSION:2.0
PRODID:icalendar-ruby
CALSCALE:GREGORIAN
METHOD:PUBLISH
BEGIN:VEVENT
DTSTAMP:20260420T130038Z
UID:246a60bc-4237-4879-b522-00a4cef5101f
DTSTART;VALUE=DATE:20220823
DTEND;VALUE=DATE:20220823
DESCRIPTION:Blanchard Woods BMX
LOCATION:4600 Blanchard Woods Drive  Evans GA 30809 USA
SUMMARY:Practice
URL:/site/bmx_races/482318
END:VEVENT
END:VCALENDAR
