BEGIN:VCALENDAR
VERSION:2.0
PRODID:icalendar-ruby
CALSCALE:GREGORIAN
METHOD:PUBLISH
BEGIN:VEVENT
DTSTAMP:20260420T112830Z
UID:422d58dd-4af4-47a8-947c-aa527f36290b
DTSTART;VALUE=DATE:20220906
DTEND;VALUE=DATE:20220906
DESCRIPTION:Blanchard Woods BMX
LOCATION:4600 Blanchard Woods Drive  Evans GA 30809 USA
SUMMARY:Practice
URL:/site/bmx_races/482324
END:VEVENT
END:VCALENDAR
