BEGIN:VCALENDAR
VERSION:2.0
PRODID:icalendar-ruby
CALSCALE:GREGORIAN
METHOD:PUBLISH
BEGIN:VEVENT
DTSTAMP:20260420T094743Z
UID:4797f576-e741-4c6e-bd33-f9e9029028b7
DTSTART;VALUE=DATE:20221013
DTEND;VALUE=DATE:20221013
DESCRIPTION:Blanchard Woods BMX
LOCATION:4600 Blanchard Woods Drive  Evans GA 30809 USA
SUMMARY:Practice
URL:/site/bmx_races/482340
END:VEVENT
END:VCALENDAR
