BEGIN:VCALENDAR
VERSION:2.0
PRODID:icalendar-ruby
CALSCALE:GREGORIAN
METHOD:PUBLISH
BEGIN:VEVENT
DTSTAMP:20260420T081951Z
UID:d291c671-787c-4863-b4b2-a6d3743aff16
DTSTART;VALUE=DATE:20221101
DTEND;VALUE=DATE:20221101
DESCRIPTION:Blanchard Woods BMX
LOCATION:4600 Blanchard Woods Drive  Evans GA 30809 USA
SUMMARY:Practice
URL:/site/bmx_races/482348
END:VEVENT
END:VCALENDAR
