BEGIN:VCALENDAR
VERSION:2.0
PRODID:icalendar-ruby
CALSCALE:GREGORIAN
METHOD:PUBLISH
BEGIN:VEVENT
DTSTAMP:20260420T094742Z
UID:a190221f-7864-4175-b7e9-411d18f9a1c3
DTSTART;VALUE=DATE:20211108
DTEND;VALUE=DATE:20211108
DESCRIPTION:Yucca Valley BMX
LOCATION:6989 Sage Ave  Yucca Valley CA 92234 USA
SUMMARY:Local Race Single
URL:/site/bmx_races/482612
END:VEVENT
END:VCALENDAR
