BEGIN:VCALENDAR
VERSION:2.0
PRODID:icalendar-ruby
CALSCALE:GREGORIAN
METHOD:PUBLISH
BEGIN:VEVENT
DTSTAMP:20260422T145047Z
UID:44c86f81-f335-480f-89f8-bb3071cb0299
DTSTART;VALUE=DATE:20220704
DTEND;VALUE=DATE:20220704
DESCRIPTION:Marysville BMX
LOCATION:618 N Main St  Marysville OH 43040 USA
SUMMARY:Practice
URL:/site/bmx_races/482899
END:VEVENT
END:VCALENDAR
