BEGIN:VCALENDAR
VERSION:2.0
PRODID:icalendar-ruby
CALSCALE:GREGORIAN
METHOD:PUBLISH
BEGIN:VEVENT
DTSTAMP:20260422T131858Z
UID:17310834-963d-4327-aeca-14d615d166cd
DTSTART;VALUE=DATE:20220822
DTEND;VALUE=DATE:20220822
DESCRIPTION:Marysville BMX
LOCATION:618 N Main St  Marysville OH 43040 USA
SUMMARY:Practice
URL:/site/bmx_races/482906
END:VEVENT
END:VCALENDAR
