BEGIN:VCALENDAR
VERSION:2.0
PRODID:icalendar-ruby
CALSCALE:GREGORIAN
METHOD:PUBLISH
BEGIN:VEVENT
DTSTAMP:20260422T095625Z
UID:1df0bf19-1e80-44e7-88f5-2a2debc21daf
DTSTART;VALUE=DATE:20220919
DTEND;VALUE=DATE:20220919
DESCRIPTION:Marysville BMX
LOCATION:618 N Main St  Marysville OH 43040 USA
SUMMARY:Practice
URL:/site/bmx_races/482910
END:VEVENT
END:VCALENDAR
