BEGIN:VCALENDAR
VERSION:2.0
PRODID:icalendar-ruby
CALSCALE:GREGORIAN
METHOD:PUBLISH
BEGIN:VEVENT
DTSTAMP:20260423T065500Z
UID:94a9444a-ee6b-45db-b6cc-b80cf0dcfd7e
DTSTART;VALUE=DATE:20221004
DTEND;VALUE=DATE:20221004
DESCRIPTION:Lincoln Park BMX
LOCATION:South L St & W. Lauridsen Blvd  Port Angeles WA 98362 USA
SUMMARY:Local Race Single
URL:/site/bmx_races/483011
END:VEVENT
END:VCALENDAR
