BEGIN:VCALENDAR
VERSION:2.0
PRODID:icalendar-ruby
CALSCALE:GREGORIAN
METHOD:PUBLISH
BEGIN:VEVENT
DTSTAMP:20260423T211549Z
UID:9d85aa92-901e-45f4-aa84-d8dc4d65650d
DTSTART;VALUE=DATE:20220309
DTEND;VALUE=DATE:20220309
DESCRIPTION:Nellis BMX
LOCATION:4949 E Cheyenne Ave  Las Vegas NV 89115 USA
SUMMARY:Local Race Single
URL:/site/bmx_races/483089
END:VEVENT
END:VCALENDAR
