BEGIN:VCALENDAR
VERSION:2.0
PRODID:icalendar-ruby
CALSCALE:GREGORIAN
METHOD:PUBLISH
BEGIN:VEVENT
DTSTAMP:20260424T130404Z
UID:3840734a-5711-47b4-9015-a4a11f6ba270
DTSTART;VALUE=DATE:20220921
DTEND;VALUE=DATE:20220921
DESCRIPTION:Nellis BMX
LOCATION:4949 E Cheyenne Ave  Las Vegas NV 89115 USA
SUMMARY:Local Race Single
URL:/site/bmx_races/483173
END:VEVENT
END:VCALENDAR
