BEGIN:VCALENDAR
VERSION:2.0
PRODID:icalendar-ruby
CALSCALE:GREGORIAN
METHOD:PUBLISH
BEGIN:VEVENT
DTSTAMP:20260421T160458Z
UID:a7de91f7-4775-478f-8aa7-c9171dd1174b
DTSTART;VALUE=DATE:20220913
DTEND;VALUE=DATE:20220913
DESCRIPTION:Fountain City BMX
LOCATION:David D. Whetstone Jr. Sports Complex     County Road 4 W Prattvil
 le AL 36066 USA
SUMMARY:Practice
URL:/site/bmx_races/483663
END:VEVENT
END:VCALENDAR
