BEGIN:VCALENDAR
VERSION:2.0
PRODID:icalendar-ruby
CALSCALE:GREGORIAN
METHOD:PUBLISH
BEGIN:VEVENT
DTSTAMP:20260421T130155Z
UID:2b9ed619-2a2e-4b6c-a9f5-6fe5cef49dbf
DTSTART;VALUE=DATE:20221108
DTEND;VALUE=DATE:20221108
DESCRIPTION:Fountain City BMX
LOCATION:David D. Whetstone Jr. Sports Complex     County Road 4 W Prattvil
 le AL 36066 USA
SUMMARY:Practice
URL:/site/bmx_races/483679
END:VEVENT
END:VCALENDAR
