BEGIN:VCALENDAR
VERSION:2.0
PRODID:icalendar-ruby
CALSCALE:GREGORIAN
METHOD:PUBLISH
BEGIN:VEVENT
DTSTAMP:20260421T130155Z
UID:c6758b67-7abf-4875-b88e-e391800ec373
DTSTART;VALUE=DATE:20221129
DTEND;VALUE=DATE:20221129
DESCRIPTION:Fountain City BMX
LOCATION:David D. Whetstone Jr. Sports Complex     County Road 4 W Prattvil
 le AL 36066 USA
SUMMARY:Practice
URL:/site/bmx_races/483683
END:VEVENT
END:VCALENDAR
