BEGIN:VCALENDAR
VERSION:2.0
PRODID:icalendar-ruby
CALSCALE:GREGORIAN
METHOD:PUBLISH
BEGIN:VEVENT
DTSTAMP:20260421T113348Z
UID:0c1d8e13-645c-4709-bdd6-f2417808b421
DTSTART;VALUE=DATE:20221209
DTEND;VALUE=DATE:20221209
DESCRIPTION:Fountain City BMX
LOCATION:David D. Whetstone Jr. Sports Complex     County Road 4 W Prattvil
 le AL 36066 USA
SUMMARY:Practice
URL:/site/bmx_races/483686
END:VEVENT
END:VCALENDAR
