BEGIN:VCALENDAR
VERSION:2.0
PRODID:icalendar-ruby
CALSCALE:GREGORIAN
METHOD:PUBLISH
BEGIN:VEVENT
DTSTAMP:20260422T090220Z
UID:841a4d20-643f-4660-9c22-7d402ccc13f0
DTSTART;VALUE=DATE:20211124
DTEND;VALUE=DATE:20211124
DESCRIPTION:Grand Prix BMX at SoCal Fair
LOCATION:18700 Lake Perris Dr  Perris CA 92571 USA
SUMMARY:Local Race Single
URL:/site/bmx_races/484169
END:VEVENT
END:VCALENDAR
