BEGIN:VCALENDAR
VERSION:2.0
PRODID:icalendar-ruby
CALSCALE:GREGORIAN
METHOD:PUBLISH
BEGIN:VEVENT
DTSTAMP:20260424T060548Z
UID:7d005b03-337a-47b9-8ea1-ef964e762d83
DTSTART;VALUE=DATE:20220109
DTEND;VALUE=DATE:20220109
DESCRIPTION:Rum River BMX
LOCATION:Isanti Parkway Northwest  Isanti MN 55040 USA
SUMMARY:Local Race Single
URL:/site/bmx_races/484469
END:VEVENT
END:VCALENDAR
