BEGIN:VCALENDAR
VERSION:2.0
PRODID:icalendar-ruby
CALSCALE:GREGORIAN
METHOD:PUBLISH
BEGIN:VEVENT
DTSTAMP:20260425T112333Z
UID:2f7ea184-0357-4334-b5a1-fcae86ab1bd6
DTSTART;VALUE=DATE:20220816
DTEND;VALUE=DATE:20220816
DESCRIPTION:Rum River BMX
LOCATION:Isanti Parkway Northwest  Isanti MN 55040 USA
SUMMARY:Local Race Single
URL:/site/bmx_races/484515
END:VEVENT
END:VCALENDAR
