BEGIN:VCALENDAR
VERSION:2.0
PRODID:icalendar-ruby
CALSCALE:GREGORIAN
METHOD:PUBLISH
BEGIN:VEVENT
DTSTAMP:20260423T145503Z
UID:b0a24b88-84be-46e2-b8fa-a7344beab435
DTSTART;VALUE=DATE:20220708
DTEND;VALUE=DATE:20220708
DESCRIPTION:St. Peters BMX
LOCATION:100 Brown Rd  St. Peters MO 63376 USA
SUMMARY:Race for Life Double
URL:/site/bmx_races/484803
END:VEVENT
END:VCALENDAR
